BEGIN:VCALENDAR
VERSION:2.0
PRODID:-//Plone.org//NONSGML plone.app.event//EN
X-WR-TIMEZONE:US/Central
BEGIN:VEVENT
SUMMARY:Story Time
DTSTART;TZID=US/Central:20220120T100000
DTEND;TZID=US/Central:20220120T110000
DTSTAMP:20260425T132007Z
UID:7822ef65eefe438180ebfacc51dd757b@saas_stack_varnish:6080
ATTENDEE;CN="0 - 4 year olds.";ROLE=REQ-PARTICIPANT:0 - 4 year olds.
CONTACT:Tina\, 6605842880\, higginsvillelibrary@gmail.com
CREATED:20211216T150051Z
LAST-MODIFIED:20211216T151153Z
LOCATION:Robertson Memorial Library
URL:https://www.higginsvillelibrary.org/calendar-news/events/story-time-1/
 2022-01-20
END:VEVENT
BEGIN:VTIMEZONE
TZID:US/Central
X-LIC-LOCATION:US/Central
BEGIN:STANDARD
DTSTART:20211107T010000
TZNAME:CST
TZOFFSETFROM:-0500
TZOFFSETTO:-0600
END:STANDARD
END:VTIMEZONE
END:VCALENDAR
