BEGIN:VCALENDAR
VERSION:2.0
PRODID:-//Plone.org//NONSGML plone.app.event//EN
X-WR-TIMEZONE:US/Central
BEGIN:VEVENT
SUMMARY:Thanksgiving: Library Closed
DTSTART;VALUE=DATE:20271125
DTEND;VALUE=DATE:20271127
DTSTAMP:20260425T132210Z
UID:760e5218db66492cb5f54e817c147dce@saas_stack_varnish:6080
CREATED:20210113T202555Z
LAST-MODIFIED:20211122T150637Z
URL:https://www.higginsvillelibrary.org/calendar-news/events/thanksgiving-
 library-closed/2027-11-25
END:VEVENT
END:VCALENDAR
